BEGIN:VCALENDAR
VERSION:2.0
X-WR-CALNAME:www.indybay.org
PRODID:-//indybay/ical// v1.0//EN
BEGIN:VEVENT
UID:Indybay-18733228
SEQUENCE:18835843
CREATED:20130307T041900Z
DESCRIPTION:We’ll be at it again as we do every second Saturday of the month - 
 Arizmendi refreshments and all. This time if you stop by the School farm to 
 lend a helping hand, we’ll be starting seeds for our spring and summer 
 garden, clearing space for our fence row orchard and planting a few fruit 
 trees as well. Time and help permitting we’ll continue along the path of 
 weeding and preparing beds for veggies as well as prepping our northeast 
 quadrant for a grain growing project. If you’re not familiar with the 
 School Farm, see location details!\n 
 https://www.indybay.org/newsitems/2013/03/06/18733228.php
SUMMARY:ECOSF School Farm Volunteer Work Day
LOCATION: The School Farm is located next to the athletic field at the Ruth Asawa 
 School of the Arts and the Academy of Arts and Sciences - 555 Portola Dr. 
 San Francisco. Enter the campus via O'Shaughnessy Blvd @ Portola. Close to 
 36, 44, 48, and 52 Muni lines. From the parking area on O'Shaughnessy, walk 
 down the hill to the right towards the athletic field. We'll be on the farm 
 the behind the bleachers across the field. See ya there!
URL:https://www.indybay.org/newsitems/2013/03/06/18733228.php
DTSTART:20130309T200000Z
DTEND:20130310T000000Z
END:VEVENT
END:VCALENDAR
