BEGIN:VCALENDAR
VERSION:2.0
X-WR-CALNAME:www.indybay.org
PRODID:-//indybay/ical// v1.0//EN
BEGIN:VEVENT
UID:Indybay-18733176
SEQUENCE:18835778
CREATED:20130306T031100Z
DESCRIPTION:FOR PLANNING PURPOSE                                                        
                       Contact: Jesse Yeh\nMarch 4, 2013                     
                                            (510)599-2332    
 jesse.yc.yeh@gmail.com\n\n\nUNIVERSITY OF CALIFORNIA STUDENTS TO HOLD 
 FUNERAL FOR WORKERS’ RIGHTS IN SUPPORT FOR AFSCME CONTRACT 
 NEGOTIATION\n\nStudents across the University of California system will 
 hold a day of action this Thursday, March 7th, in support of AFSCME campus 
 workers’ contract negotiation with the University. Mock-funeral will be 
 held on the University of California, Berkeley campus, where students and 
 campus workers will speak about the demise of workers’ rights and deliver 
 a coffin full of petition to the administrator.\n\nWHAT: “Funeral of 
 Workers’ Rights” Day of Action, including “Noon Wake” rally and 
 speak-out, “Funeral Procession” march, and delivery of petition 
 coffin\n\nWHEN: 11:00 am - 1:00 pm, Thursday, March 7th. Rally at 
 noon\n\nWHERE: Sproul Plaza, University of California, Berkeley (entry from 
 intersection of Bancroft Way and Telegraph Avenue, Berkeley, 
 California)\n\nSPONSORS: Student Labor Committee at UC Berkeley (an 
 affiliate of United Students Against Sweatshop), Cal Students for Equal 
 Rights and Valid Education (CalSERVE), Student for Democratic University, 
 and UC Berkeley MEChA\n\n###\n 
 https://www.indybay.org/newsitems/2013/03/05/18733176.php
SUMMARY:UC-wide Worker's Rights Day of Action
LOCATION:Sproul Plaza, University of California, Berkeley campus
URL:https://www.indybay.org/newsitems/2013/03/05/18733176.php
DTSTART:20130307T200000Z
DTEND:20130307T210000Z
END:VEVENT
END:VCALENDAR
