BEGIN:VCALENDAR
VERSION:2.0
X-WR-CALNAME:www.indybay.org
PRODID:-//indybay/ical// v1.0//EN
BEGIN:VEVENT
UID:Indybay-18733123
SEQUENCE:18835729
CREATED:20130305T070700Z
DESCRIPTION:Slingshot publishes a quarterly, independent radical newspaper. \nDrop by 
 this meeting if you want to participate in creating issue #113, due out 
 May, 2013. The meeting will brainstorm article topics for the next issue 
 and provide an orientation and production timeline for folks wanting to 
 join the collective to create this issue of the paper.  A timeline for 
 production of issue #113 is on slingshot's website. \n 
 https://www.indybay.org/newsitems/2013/03/04/18733123.php
SUMMARY:Slingshot new volunteer meeting and article brainstorm
LOCATION:Long Haul Infoshop 3124 Shattuck Avenue Berkeley - corner of Shattuck and 
 Woolsey - 2 blocks from Ashby BART
URL:https://www.indybay.org/newsitems/2013/03/04/18733123.php
DTSTART:20130325T020000Z
DTEND:20130325T040000Z
END:VEVENT
END:VCALENDAR
