BEGIN:VCALENDAR
VERSION:2.0
X-WR-CALNAME:www.indybay.org
PRODID:-//indybay/ical// v1.0//EN
BEGIN:VEVENT
UID:Indybay-18733021
SEQUENCE:18835574
CREATED:20130303T053500Z
DESCRIPTION:City College, Mission Street, social services, SFUSD, neighborhood 
 councils, business attractiveness . . . how do we keep all these from 
 crumbling away?\n\nThe proper source of public revenue for maintaining 
 public infrastructure is the land value beneath our feet, but the property 
 tax collects but a shard of this, while taxes fall onerously upon business, 
 upon shoppers via the sales tax, and in the form of long-term bond debt . . 
 . and that's just the local burden on exchanging goods and services. Then 
 there's the State Income Tax, State business tax, etc.\n\nCome to a 
 workshop illuminating the land portion of the property tax as an 
 unburdensome source of public revenue . . . and get paid to do so.\n 
 https://www.indybay.org/newsitems/2013/03/02/18733021.php
SUMMARY:Land and Public Infrastructure workshop
LOCATION:Notable House\n189 Ellsworth St.\nSan Francisco  94110
URL:https://www.indybay.org/newsitems/2013/03/02/18733021.php
DTSTART:20130308T030000Z
DTEND:20130308T050000Z
END:VEVENT
END:VCALENDAR
