BEGIN:VCALENDAR
VERSION:2.0
X-WR-CALNAME:www.indybay.org
PRODID:-//indybay/ical// v1.0//EN
BEGIN:VEVENT
UID:Indybay-18732913
SEQUENCE:18835425
CREATED:20130301T040600Z
DESCRIPTION:The Alameda County Peace and Freedom Party and Movement presents\n\nGun 
 Control: An open discussion with \n\nThomas Boyer from Pink Pistols \nDave 
 Campbell of the Peace and Freedom Party\n\nWe call for the defense and 
 extension of the liberties guaranteed in the Bill of Rights, including 
 freedom of speech, press, assembly and association, and the right to keep 
 and bear arms for individual and collective defense. The ultimate guarantee 
 of those rights is the organized strength of the working class. -- From the 
 Platform of  the Peace and Freedom Party \n\nSaturday, March 2, 2013 • 
 2pm-4:30pm\nAt the Starry Plough Pub\n3101 Shattuck Ave, at Prince St in 
 Berkeley\n\nFREE!   (But please buy food & drink at the Pub.)   
 FREE!\n\nThis is part of our on-going Socialist Forum Series on the first 
 Saturday of every month from 2-4:30 pm. The featured panel will start 
 promptly at 2:30 pm and the forum will end by 4:30 pm, but folks can stay 
 and talk as long as you like. \n\nSuds, Snacks, & Socialism at the Starry 
 Plough\n3101 Shattuck Avenue at Prince Street\n2 blocks from Ashby BART in 
 Berkeley\n\nFor info, contact: Gene Ruyle at 510-428-1578 or 
 cuyleruyle@mac.com\n\nThe Peace and Freedom Party is committed to 
 socialism, democracy, ecology, feminism and racial 
 equality.\nwww.peaceandfreedom.org	 \n\n 
 https://www.indybay.org/newsitems/2013/02/28/18732913.php
SUMMARY:Forum on Gun Control
LOCATION:At the Starry Plough Pub\n3101 Shattuck Ave, at Prince St in Berkeley
URL:https://www.indybay.org/newsitems/2013/02/28/18732913.php
DTSTART:20130302T220000Z
DTEND:20130303T003000Z
END:VEVENT
END:VCALENDAR
