BEGIN:VCALENDAR
VERSION:2.0
X-WR-CALNAME:www.indybay.org
PRODID:-//indybay/ical// v1.0//EN
BEGIN:VEVENT
UID:Indybay-18732747
SEQUENCE:18835176
CREATED:20130225T160800Z
DESCRIPTION:We Need the Community in SF City College!\n\nWe Love City College!\nTell 
 the CCSF Board of Trustees:\nWe Need the Community in City College!\nThe 
 Community Needs Us in the City!\n\nThursday, February 28\n5 PM: Meet at 
 City College Entrance Sign to form Human Billboard\n(where Ocean Ave 
 off-ramp from I-280 meets Ocean Ave.)\n\n6 PM: Press Briefing & Rally at 
 CCSF Multi-Use Building\n(Phelan Ave Across from Science Bldg)\n\nSee map 
 showing both locations at:  http://tinyurl.com/b7d6so2 \n# 29, 49, 15, 36, 
 43 & 54 buses. J & K Muni Metro.  Balboa Park BART\n\n\nCity College of San 
 Francisco (CCSF) is a great Community College. The NY Times says it’s the 
 11th top Community College in the nation.  It helps students complete their 
 GEDs, prepares students to transfer to 4-year colleges, and graduates 
 students in the fields of food preparation, nursing, radiology, fire 
 fighting, and many other fields.  Thousands of immigrants learn English, 
 older adults take special courses, unemployed workers learn new skills – 
 the list goes on.\n\nCome tell the City College Board of Trustees that the 
 community loves City College and wants it in the community.  The Board of 
 Trustees needs to keep the community in Community Colleges.\n\n 
 https://www.indybay.org/newsitems/2013/02/25/18732747.php
SUMMARY:We Need the Community in SF City College!
LOCATION:5 PM: Meet at City College Entrance Sign to form Human Billboard\n(where 
 Ocean Ave off-ramp from I-280 meets Ocean Ave.)\n\n6 PM: Press Briefing & 
 Rally at CCSF Multi-Use Building\n(Phelan Ave Across from Science 
 Bldg)\n\nSee map showing both locations at:  http://tinyurl.com/b7d6so2 \n# 
 29, 49, 15, 36, 43 & 54 buses. J & K Muni Metro.  Balboa Park BART\n
URL:https://www.indybay.org/newsitems/2013/02/25/18732747.php
DTSTART:20130301T010000Z
DTEND:20130301T030000Z
END:VEVENT
END:VCALENDAR
