BEGIN:VCALENDAR
VERSION:2.0
X-WR-CALNAME:www.indybay.org
PRODID:-//indybay/ical// v1.0//EN
BEGIN:VEVENT
UID:Indybay-18732664
SEQUENCE:18835060
CREATED:20130224T065700Z
DESCRIPTION:WORKERS WORLD PARTY PRESENTS\n\nLarry Hales, national co-coordinator 
 Peoples Power Assemblies, a guest speaker from New York, presents an 
 analysis on Chris Dorner, his manifesto, and the meaning of the events 
 surrounding it and his death. Larry will discuss the relationship to the 
 national fight against police brutality and racial profiling, from New York 
 to California.\n\nJack Bryson, of the Oscar Grant Movement and the Justice 
 for Alan Blueford Coalition, will also talk about the fight against police 
 brutality here in Oakland.\n\nUNITE HERE,1440 BROADWAY, 2ND FLR conf rm, 
 OAKLAND, CA\nRefreshments will be provided, wheelchair accessible\n 
 https://www.indybay.org/newsitems/2013/02/23/18732664.php
SUMMARY:Chris Dorner - Chickens Come Home To Roost
LOCATION:UNITE HERE,1440 BROADWAY, 2ND FLR conf rm, OAKLAND, CA\nwheelchair 
 accessible
URL:https://www.indybay.org/newsitems/2013/02/23/18732664.php
DTSTART:20130304T000000Z
DTEND:20130304T020000Z
END:VEVENT
END:VCALENDAR
