BEGIN:VCALENDAR
VERSION:2.0
X-WR-CALNAME:www.indybay.org
PRODID:-//indybay/ical// v1.0//EN
BEGIN:VEVENT
UID:Indybay-18731269
SEQUENCE:18833128
CREATED:20130203T191400Z
DESCRIPTION:February 26 is one year since the vigilante murder of Trayvon Martin—one 
 year since George Zimmerman saw Trayvon, a 17-year-old wearing a hoodie, 
 and decided this Black youth "…must be up to no good." One year since 
 Zimmerman followed Trayvon and gunned him down. One year since the Sanford, 
 Florida, cops walked Zimmerman into and out of the police station letting 
 him go free, citing Florida's racist "Stand Your Ground" law. Only after 
 powerful outpourings of protest spread all across the country was Zimmerman 
 re-arrested and charged for his crime. We cannot stop now! Justice for 
 Trayvon! Take to the streets!\n\nTHIS ANNIVERSARY MUST BE MARKED BY 
 POWERFUL OUTPOURINGS ALL ACROSS THE COUNTRY! The racial profiling that led 
 to his murder is the same thing that has led to almost 2.4 million people, 
 most of them Black or Latino, being warehoused in prisons in the U.S. It's 
 the same thing that has led to 100's of killings by police every year in 
 this country. The Stop Mass Incarceration Network is calling for everyone 
 who hates the way Black and Latino youth are treated as less than human to 
 take their outrage to the streets in cities and towns across the country at 
 4 pm on February 26. We Say NO MORE Racial Profiling and Targeting Our 
 Youth!\n\nWe Are All Trayvon Martin!\nThe WHOLE DAMN SYSTEM is 
 GUILTY!\n\nWear Your Hoodies, Bring your signs, Blow your Whistles Tues, 
 Feb. 26th, 4pm\nIntersection of Hegenberger and International, East 
 Oakland\nFor more 
 info:	StopMassIncarcerationBayArea@gmail.com	510-926-5207\n\n 
 https://www.indybay.org/newsitems/2013/02/03/18731269.php
SUMMARY:We Are All Still Trayvon! Take it to the Streets!
LOCATION:Intersection of Hegenberger and International, East Oakland
URL:https://www.indybay.org/newsitems/2013/02/03/18731269.php
DTSTART:20130227T000000Z
DTEND:20130227T020000Z
END:VEVENT
END:VCALENDAR
