BEGIN:VCALENDAR
VERSION:2.0
X-WR-CALNAME:www.indybay.org
PRODID:-//indybay/ical// v1.0//EN
BEGIN:VEVENT
UID:Indybay-18730746
SEQUENCE:18832432
CREATED:20130124T205900Z
DESCRIPTION:Fracking is a dangerous drilling technique that could poison our water and 
 air.  the Bureau of Land Management is auctioning off rights to drill and 
 frack our California wildlands.   The Center for Biological Diversity is 
 orgainizing a creative protest to tell the federal Government "Don't Frack 
 Our Public Wildlands. "  We'll have hazmat suits with props representing 
 fracking fluids.  Join us!\n 
 https://www.indybay.org/newsitems/2013/01/24/18730746.php
SUMMARY:Don't Frack Our Public Wildlands
LOCATION:San Francisco,  Federal Building  450 Golden Gate Ave  (near Civic Center 
 BART)
URL:https://www.indybay.org/newsitems/2013/01/24/18730746.php
DTSTART:20130201T200000Z
DTEND:20130201T213000Z
END:VEVENT
END:VCALENDAR
