BEGIN:VCALENDAR
VERSION:2.0
X-WR-CALNAME:www.indybay.org
PRODID:-//indybay/ical// v1.0//EN
BEGIN:VEVENT
UID:Indybay-18730736
SEQUENCE:18832412
CREATED:20130124T183200Z
DESCRIPTION:\nJonathan KozolJonathan Kozol talks about his encounters with the poorest 
 children in America with Tom Ashbrook.\nSource: The Poorest Children In 
 America\nNaomi KleinNaomi Klein on the Links Between Capitalism and Climate 
 Change\nNaomi Klein says the tragic destruction by Hurricane Sandy can also 
 be the catalyst for the transformation of politics and our economy. She 
 joins Bill Moyers to discuss hurricanes, climate change, and 
 democracy.\nSource: Naomi Klein on the Links Between Capitalism and Climate 
 Change\nDownload or Play Jonathan Kozol Part 1Download or Play Jonathan 
 Kozol Part 2Download or Play Kozol & KleinDownload or Play Naomi Klein Part 
 2\n\nMusic includes Bob Marley & The Wailers - War, Charlie Chaplin - The 
 Great Dictator, Ella Fitzgerald - Mack The Knife, Dire Straits - Money for 
 Nothing, George Carlin - A Modern Man, Crosby Stills Nash Young - Chicago, 
 Phil Klein & Maria DeAngelis - Do You Hear, Tom Lehrer - My Home Town, Roy 
 Zimmerman - Mitt's America, The Matrix Trailer, Dion - Abraham Martin & 
 John, John Coltrane - Giant Steps\nGreat Speeches and Interviews' Past 
 Programs\n\n https://www.indybay.org/newsitems/2013/01/24/18730736.php
SUMMARY:Poor America
LOCATION:Stream or download at http://greatspeechesandinterviews.blogspot.com/ 
 \n\nBroadcast at Access Sacramento at 
 http://www.live365.com/cgi-bin/mini.cgi?station_name=accesssacramento&site=pro&tm=6524\n
URL:https://www.indybay.org/newsitems/2013/01/24/18730736.php
DTSTART:20130128T020000Z
DTEND:20130128T040000Z
END:VEVENT
END:VCALENDAR
