BEGIN:VCALENDAR
VERSION:2.0
X-WR-CALNAME:www.indybay.org
PRODID:-//indybay/ical// v1.0//EN
BEGIN:VEVENT
UID:Indybay-18730365
SEQUENCE:18831900
CREATED:20130117T061700Z
DESCRIPTION:Haight Ashbury Peace Vigil, Friday, January 18, and the third Friday of 
 every month, from 6:00 to 8:00 p.m. at the corner of Fell and Masonic in 
 the Golden Gate Park Panhandle, San Francisco.  Everybody welcome!  \n\nWe 
 will have signs, candles, music and snacks.  Stay for the whole two hours 
 or for just five minutes.\n\nThe forecast is for clear skies and 
 temperatures in the mid- to low fifties.  Please dress warmly\n\nPictures 
 from past vigils can be seen 
 here:\n\nwww.flickr.com/photos/haightpeacevigil\n 
 https://www.indybay.org/newsitems/2013/01/16/18730365.php
SUMMARY:Haight Ashbury Peace Vigil
LOCATION:Corner of Masonic and Fell, in the Golden Gate Park Panhandle, San 
 Francisco
URL:https://www.indybay.org/newsitems/2013/01/16/18730365.php
DTSTART:20130119T020000Z
DTEND:20130119T040000Z
END:VEVENT
END:VCALENDAR
