BEGIN:VCALENDAR
VERSION:2.0
X-WR-CALNAME:www.indybay.org
PRODID:-//indybay/ical// v1.0//EN
BEGIN:VEVENT
UID:Indybay-18730337
SEQUENCE:18831844
CREATED:20130116T180000Z
DESCRIPTION:  \n\nHonoring Dr. Martin Luther King Jr.’s contribution to the civil 
 rights and labor movements \n A weekend of solidarity in \nan era of war, 
 racism, and hard times. \n\nMartin Luther King Jr. weekend\nJanuary 18-20, 
 2013                      westernworkersfestival.org\n\n        Friday, 
 7-10 pm  Solidarity Circle:  Song, poetry, and story swap.  Featured 
 performer:  Lynn Marie Smith, Detroit Motown Labor Diva  \n\n        
 Saturday’s workshop schedule includes a film series and workshops such as 
 Motown Labor Music, Telling Stories Through Art, Using Spoken Word and 
 Theater to Support Universal Healthcare, Latino Worker Songs, Jazz and 
 Workers Workshop with Avotcja.  \n\n	On Sunday a tribute to Dr. King 
 featuring Jimmy Collier and the Vukani Muwethu chorus (free and open to the 
 public at 1:30), followed by the benefit concert at 7:00.  The benefit 
 concert will honor Jon Fromer (1946 – 2013) and will feature Lynn Marie 
 Smith (the Detroit diva of labor music), Jimmy Collier (whose music often 
 served as the introduction for Dr. King’s speeches), and the Seattle 
 Labor Chorus.\n\nRegistration:  $75 for the full weekend, $15 Friday 
 night, $35 Saturday only, $60 Saturday-Sunday, $10 single workshop, $15-30 
 sliding scale for the concert\n         - No one turned away for lack of 
 funds -\nScholarship funds available for attendees under age 30 - 
 application form on line.\n\n 
 https://www.indybay.org/newsitems/2013/01/16/18730337.php
SUMMARY:Western Workers Labor Heritage
LOCATION:  \n\nHonoring Dr. Martin Luther King Jr.’s contribution to the civil 
 rights and labor movements \n A weekend of solidarity in \nan era of war, 
 racism, and hard times. \n\n\nMartin Luther King Jr. weekend\nJanuary 
 18-20, 2013 \n\n\nIAM Local 1781 Hall\n1511 Rollins Rd., Burlingame, 
 CA\n*Free parking on site, or take BART to Millbrae Station and call for 
 pickup  (650) 796-7648. You will get a call back in 5-10 minutes.\n        
 westernworkersfestival.org\n
URL:https://www.indybay.org/newsitems/2013/01/16/18730337.php
DTSTART:20130119T030000Z
DTEND:20130119T060000Z
END:VEVENT
END:VCALENDAR
