BEGIN:VCALENDAR
VERSION:2.0
X-WR-CALNAME:www.indybay.org
PRODID:-//indybay/ical// v1.0//EN
BEGIN:VEVENT
UID:Indybay-18730210
SEQUENCE:18831639
CREATED:20130115T043900Z
DESCRIPTION:Esta junta estará disponible en español\n\n\nPSL Public Forum and 
 Discussion\n\nWhile Bailed-Out Banks Foreclose – People Fight 
 Back!\n\nFriday, Jan. 18, 7pm\n2969 Mission St., San Francisco\n\nThe 
 biggest U.S. banks agreed on Jan. 7 to pay $8.5 billion as part of a deal 
 with the federal government to avoid prosecution for illegal foreclosures. 
 The same banks that took hundreds of billions of dollars of taxpayer money 
 as bailout in 2008-09 have been super-aggressive in kicking people out of 
 their homes. Under pressure from an anti-foreclosure campaign that started 
 in the Occupy Movement, the government has been forced to take some action 
 against the banks. But what does this settlement really mean?\n\nHow Would 
 Socialism Solve the Housing Crisis\n\nAre foreclosures, evictions and 
 homelessness inevitable? Are they just facts of life? Hear reports on the 
 bank foreclosures and how socialism would solve the housing problem, and 
 other issues caused by the irrational capitalist system. \n\nJoin us for 
 informative presentations and discussion on the accomplishments of the 
 Bolivarian Revolution and its present and future challenges.\n\n2969 
 Mission St. San Francisco\n\n$3 - $5 donation requested, no one turned away 
 for lack of funds.\n(Refreshments served. Cross street 25th and 26th. Near 
 24th St. BART. MUNI #14, 49. For more info contact PSL at 
 415-821-6171.\n\nCheck out our website: http://www.pslweb.org\nDaily News & 
 Analysis from a Marxist Perspective. The Party for Socialism and Liberation 
 has a website filled with great political material from a Marxist 
 perspective. On it, you can get news and analysis, breaking stories, learn 
 about PSL events across the country, download audio and video and other 
 political resources, find out how to get involved with the PSL and much 
 more. Go to the website and look around, bookmark it and share it with your 
 friends and family. Check http://www.pslweb.org each day for updated 
 information and news. Make socialism a part of your everyday 
 life!\n\nSubscribe: check out our bi-weekly newspaper Liberation\nGet a 
 Marxist analysis of the critical political developments of the day, reports 
 on liberation struggles around the world, and educational articles with 
 content that every activist should learn. Go to http://www.pslweb.org to 
 read current selections and back issues and to find out how to subscribe. 
 Liberation is our biweekly newspaper. Go to http://www.pslweb.org to read 
 it and find out more about the working class struggle.\n\nForo Público y 
 Discusión de PSL\n\nLos Bancos Rescatados Roban—¡El Pueblo 
 Lucha!\n\nviernes, 18 de enero, 7pm\n2969 Calle Mission, San 
 Francisco\n\nLos mas grandes bancos de los EE.UU. acordaron el 7 de enero a 
 pagar 8.5 mil millones como parte de un trato con el gobierno federal para 
 evitar persecución por haber conducido quiebras hipotecarias ilegales. Los 
 mismos bancos que tomaron miles de millones de dólares del pueblo como 
 parte de un rescate financiero en el 2008-09 han estado corriendo a gente 
 de sus hogares agresivamente. Bajo presión de una campaña contra las 
 quiebras hipotecarias iniciado por el Movimiento Occupy, el gobierno se ha 
 visto forzado a tomar acción contra los bancos. ¿Pero qué significa 
 realmente?\n\n¿Como pudiera el socialismo resolver la crisis 
 hipotecaria?\n\n¿Son las quiebras hipotecarias, evicciones y el estar sin 
 hogar inevitables? ¿Son solo los hechos de la vida? Escuche reportes sobre 
 las quiebras hipotecarias y como el socialismo pudiera resolver el problema 
 de viviendas, y otros males causado por el sistema capitalista 
 irracional.\n\n¡Ahora todas los foros están disponibles en 
 español!\n\n2969 Calle Mission\n\nSugerimos una donación de $3 a $5, 
 todos bienvenidos, con o sin fondos.\n\n(Habrá antojitos. Esquiná de la 
 calle 25 y 26, acerca de BART/24 St., MUNI #14, 49)\n\nPara mayor 
 información llame al PSL, en 415-821-6171.\n\nVisite nuestra página web: 
 http://www.pslweb.org\nDel día y análisis desde un punto de vista 
 Marxista. El Partido para el Socialismo y Liberación tiene una página web 
 llena de gran material político desde un punto de vista Marxista. En la 
 página, obtendrá noticias y análisis, noticias del momento, y aprenderá 
 sobre eventos del PSL por todo el país. Puede bajar audio y video y otros 
 recursos políticos, encontrará información de cómo involucrarse con el 
 PSL, y mucho más. Vaya a nuest ra página web y explórela, márquela y 
 compártela con sus amigos y familia. Visite http://www.pslweb.org cada 
 día para información actual y noticias. ¡Haga el socialismo parte de 
 cada día de su vida!\n\nSubscríbese al Liberación y revise nuestro 
 periódico bisemanal\nNoticias del día y análisis desde un punto de vista 
 Marxista. Liberación es una publicación de cada 15 días para activistas, 
 escrito por activistas. Recibe análisis socialista sobre acontecimientos 
 políticos críticos del día, reportes sobre luchas de liberación 
 alrededor del mundo, y artículos educativos con contenido que cada 
 activista debería aprender.\n\nVaya a http://www.pslweb.org para leer 
 selecciones actuales y publicaciones anteriores y para aprender como 
 subscribirse. Liberación es nuestro periódico bisemanal. Visite 
 http://www.pslweb.org para leerlo y encontrar más sobre la lucha de la 
 clase trabajadora.\n 
 https://www.indybay.org/newsitems/2013/01/14/18730210.php
SUMMARY:Forum/Foro: How Socialism could Solve the Housing Crisis
LOCATION:2969 Mission St. San Francisco\n\n$3 - $5 donation requested, no one turned 
 away for lack of funds.\n(Refreshments served. Cross street 25th and 26th. 
 Near 24th St. BART. MUNI #14, 49. For more info contact PSL at 
 415-821-6171.\n\n\n2969 Calle Mission\n\nSugerimos una donación de $3 a 
 $5, todos bienvenidos, con o sin fondos.\n\n(Habrá antojitos. Esquiná de 
 la calle 25 y 26, acerca de BART/24 St., MUNI #14, 49)\n
URL:https://www.indybay.org/newsitems/2013/01/14/18730210.php
DTSTART:20130118T200000Z
DTEND:20130119T030000Z
END:VEVENT
END:VCALENDAR
