BEGIN:VCALENDAR
VERSION:2.0
X-WR-CALNAME:www.indybay.org
PRODID:-//indybay/ical// v1.0//EN
BEGIN:VEVENT
UID:Indybay-18729892
SEQUENCE:18831212
CREATED:20130111T010600Z
DESCRIPTION:The human story of how corporate-driven genetic modification of seeds is 
 devastating communities in India.\n“By taking us deep into the heart of a 
 tiny village in India , BITTER SEEDS gives us rare insights into 
 biotechnology and the future of farming. Micha X. Peled spotlights the 
 efforts of one brave young woman who dares to write about India’s 
 epidemic of farmer suicides, and with exquisite cinematography weaves a 
 cautionary tale that reveals the frightening global impact of genetically 
 modified crops.”\nThis is part of Peled's trilogy on globalization, which 
 included Store Wars: When Walmart Comes to Town and China Blue.\n\nThis 
 event is sponsored by WILPF- San Jose Women's International League for 
 Peace and Freedom \n 
 https://www.indybay.org/newsitems/2013/01/10/18729892.php
SUMMARY:Film on Plight of Farmers in India "Bitter Seeds"
LOCATION:San Jose Peace and Justice Center\n48 South 7th St., San Jose, CA 95112
URL:https://www.indybay.org/newsitems/2013/01/10/18729892.php
DTSTART:20130119T030000Z
DTEND:20130119T050000Z
END:VEVENT
END:VCALENDAR
