BEGIN:VCALENDAR
VERSION:2.0
X-WR-CALNAME:www.indybay.org
PRODID:-//indybay/ical// v1.0//EN
BEGIN:VEVENT
UID:Indybay-18729680
SEQUENCE:18830930
CREATED:20130108T205300Z
DESCRIPTION:The speaker for our January Green Sunday is Jack Rasmus.  He is the author 
 of the 2012 book "Obama's Economy:  Recovery For The Few".  He also hosts a 
 radio show "Alternative Visions" on the Progressive Radio Network and 
 teaches economics at St. Mary's College in Moraga.\n\nHe will be discussing 
 the recent battle over the so-called fiscal cliff; analyzing the political 
 considerations which were decisive in the outcome.  Recognizing that the 
 battle over spending and taxation is far from over, he will talk about 
 future battles as well.\n\nSunday January 13th, 2013\n5:00 to 6:30 
 pm\nNiebyl-Proctor Library\n6501 Telegraph Ave. at 65th in North 
 Oakland\nwheelchair accessible\n\nDIRECTIONS: One block north of Alcatraz 
 on the West side of Telegraph, wheelchair accessible. Buses pass by 
 regularly. Ashby BART is approximately 7 blocks away.\n\nSPONSOR: Green 
 Sundays are a series of free programs & discussions sponsored by the Green 
 Party of Alameda County. They are held on the 2nd Sunday of each month. The 
 monthly business meeting of the County Council of the Green Party of 
 Alameda County follows at 6:45 p.m. Council meetings are always open to 
 anyone who is interested.\n 
 https://www.indybay.org/newsitems/2013/01/08/18729680.php
SUMMARY:Green Sunday: "Obama’s Economy: Recovery For The Few"
LOCATION:One block north of Alcatraz on the West side of Telegraph, wheelchair 
 accessible. Buses pass by regularly. Ashby BART is approximately 7 blocks 
 away.
URL:https://www.indybay.org/newsitems/2013/01/08/18729680.php
DTSTART:20130114T010000Z
DTEND:20130114T023000Z
END:VEVENT
END:VCALENDAR
