BEGIN:VCALENDAR
VERSION:2.0
X-WR-CALNAME:www.indybay.org
PRODID:-//indybay/ical// v1.0//EN
BEGIN:VEVENT
UID:Indybay-18729677
SEQUENCE:18830927
CREATED:20130108T193200Z
DESCRIPTION:The Do Something series is designed to get peolpe to do something with 
 their education, their bodies, their minds, their politics and their money. 
  InSolidarity is a start-up organization collaborating with community 
 members to raise funds and launch their organization.  InSolidarity 
 envisions a world where low-income youth of color, across the world are 
 empowered to recognize their potential as local and global agents of 
 transformation; are mobilized to activate their community and build a 
 global network of relationships between change-makers.  \n 
 https://www.indybay.org/newsitems/2013/01/08/18729677.php
SUMMARY:Do Something Series
LOCATION:Resurrection Lutheran Church\n397 Euclid Ave Oakland, Ca 94610
URL:https://www.indybay.org/newsitems/2013/01/08/18729677.php
DTSTART:20130118T030000Z
DTEND:20130118T040000Z
END:VEVENT
END:VCALENDAR
