BEGIN:VCALENDAR
VERSION:2.0
X-WR-CALNAME:www.indybay.org
PRODID:-//indybay/ical// v1.0//EN
BEGIN:VEVENT
UID:Indybay-18727623
SEQUENCE:18828325
CREATED:20121210T022900Z
DESCRIPTION:A sunrise ceremony (tobacco pipe) with the Tree People (Tuk Pikuni) on Lake 
 Merritt for the changing of the worlds (the end of the Mayan Calendar and 
 Hopi Prophecy). We are welcoming the changing of the worlds (people of the 
 gold to the people of corn and wood-trees) along with changing of the 
 consciousness. Everyone is welcome please bring medicine (sage or tobacco) 
 for offerings. We will provide other information as well to what is going 
 on as it is Indian Time. Aho  \n 
 https://www.indybay.org/newsitems/2012/12/09/18727623.php
SUMMARY:The end of the fourth world and the beginning of the fifth
LOCATION:West of the Boat house on Lake Merritt in Oakland CA. 
URL:https://www.indybay.org/newsitems/2012/12/09/18727623.php
DTSTART:20121221T151500Z
DTEND:20121221T161500Z
END:VEVENT
END:VCALENDAR
