BEGIN:VCALENDAR
VERSION:2.0
X-WR-CALNAME:www.indybay.org
PRODID:-//indybay/ical// v1.0//EN
BEGIN:VEVENT
UID:Indybay-18726918
SEQUENCE:18827436
CREATED:20121201T194100Z
DESCRIPTION:Topic ideas for discussion: \n\nEnvironmental Defense, gardening, 
 challenging green washing \nDowntown Post Office \nTelegraph Ave/Lower 
 Sproul development \nDefending Peoples Park \nTents and indoor shelter for 
 the Homeless \nFood Security/Distribution \n\n\nThis is an open community 
 forum regarding the social and economic issues that Berkeley is facing, and 
 how the community can respond.   \n 
 https://www.indybay.org/newsitems/2012/12/01/18726918.php
SUMMARY:Deprivatizing and Decolonizing Berkeley
LOCATION:People's Park Stage\n(Monday is expected to have no rain; enjoy the Park)
URL:https://www.indybay.org/newsitems/2012/12/01/18726918.php
DTSTART:20121203T230000Z
DTEND:20121204T010000Z
END:VEVENT
END:VCALENDAR
