BEGIN:VCALENDAR
VERSION:2.0
X-WR-CALNAME:www.indybay.org
PRODID:-//indybay/ical// v1.0//EN
BEGIN:VEVENT
UID:Indybay-18726780
SEQUENCE:18827238
CREATED:20121130T033600Z
DESCRIPTION:Flash Mob for Justice: Tax the Top 2%\nHands Off Social Security, Medicare, 
 and Medicaid!\nNew Date:  Friday, December 7, 11:30 AM Sharp!\nSF Federal 
 Building, 7th St. & Mission\nCivic Center BART/Metro\n\nThe nation’s 
 richest banks and corporations have rung up billions in deficits with wars, 
 tax cuts for the richest, bank bailouts, and reckless speculation, and now 
 they want us to pay by sacrificing Social Security, Medicare, Medicaid, and 
 every other part of the Safety Net!\n\nDemocrats and Republicans alike are 
 burning the midnight oil in search of a bi-partisan Grand Bargain to screw 
 seniors, people with disabilities, kids, and low-income workers.\n\nNo Way! 
 Join our Flash Mob for social justice: We demand:\n\n*  No cuts to Social 
 Security, Medicare, Medicaid, or services to low-income people.\n\n*  End 
 the tax cuts for the rich\n\n*  Create millions of jobs\n\nPlease join us 
 for this spectacular event which we postponed due to rain – but Dec.7th 
 should be dry and sunny (according to the forecasts!)  Our goal is to video 
 our flash mob and have it go VIRAL – so the whole country puts pressure 
 on Congress to demand that we do not cut our essential programs in order to 
 make the Grand Bargain on the deficit and avoid sequestration before the 
 end of the year.  Please try to attend, and pass this along to your 
 friends, colleagues, and family.  Wear comfortable clothes and comfortable 
 shoes.\n\n https://www.indybay.org/newsitems/2012/11/29/18726780.php
SUMMARY:Flash Mob for Justice: Hands Off Social Security, Medicare, and Medicaid!
LOCATION:SF Federal Building, 7th St. & Mission\nCivic Center BART/Metro
URL:https://www.indybay.org/newsitems/2012/11/29/18726780.php
DTSTART:20121207T193000Z
DTEND:20121207T210000Z
END:VEVENT
END:VCALENDAR
