BEGIN:VCALENDAR
VERSION:2.0
X-WR-CALNAME:www.indybay.org
PRODID:-//indybay/ical// v1.0//EN
BEGIN:VEVENT
UID:Indybay-18726489
SEQUENCE:18826820
CREATED:20121126T232900Z
DESCRIPTION:Fukushima Response Bay Area organizing MEETING Wed. Nov 28 - 4pm - Hal 
 Justice Center 2nd floor at 1606 Bonita Ave.  Goal-build pubic pressure to 
 get this all-important nuclear risk reduced asap.\nendorsed by the BFUU 
 Social Justice Committee and FR Northern Ca\n\n\nFukushima Response Bay 
 Area organizing MEETING Wed. Nov 28 at 4pm\nBFUU Hal Justice Center at 1606 
 Bonita Ave (thru gate next door to the BFUU Hall, upstairs, at end of 
 balcony corridor.)  \nWelcome!  \nWant to banner the Berkeley pedestrian 
 bridge with us?  Pls join our Fri pm vigils w/ optional flyering.  We have 
 extra Hazmat suits!\nOur small organizing meeting this Wed. is upstairs 
 without wheelchair access. So far, no one needing access has joined us but 
 if you do, pls let us know asap, w/ your contact info, and we will find an 
 accessible location for next times. 595-5575   \nFRBA is endorsed by the 
 BFUU Social Justice Committee and also collaborates with FR Northern Ca: 
 http://www.FukushimaResponse.org  \n\n 
 https://www.indybay.org/newsitems/2012/11/26/18726489.php
SUMMARY:Fukushima Response organizing meeting
LOCATION:BFUU Hal Justice Center at 1606 Bonita Ave (thru gate next door to the BFUU 
 Hall, upstairs, at end of balcony corridor.)  
URL:https://www.indybay.org/newsitems/2012/11/26/18726489.php
DTSTART:20121129T000000Z
DTEND:20121129T000000Z
END:VEVENT
END:VCALENDAR
