BEGIN:VCALENDAR
VERSION:2.0
X-WR-CALNAME:www.indybay.org
PRODID:-//indybay/ical// v1.0//EN
BEGIN:VEVENT
UID:Indybay-18726284
SEQUENCE:18826589
CREATED:20121123T205900Z
DESCRIPTION:A night of video dispatches from the front lines of movements in Spain, 
 Greece, Portugal and beyond\n\nTHIS SUNDAY, NOV 25\n7pm @ the Holdout, 2313 
 San Pablo Ave., Oakland\n$2-$20 no one turned away\na benefit for Columbus 
 Day arrestees in San Francisco \n\nSince the dawn of the most recent crisis 
 of capitalism in 2008 there has been a crescendo of uprisings around the 
 globe. From Egypt, to Oakland, from Athens to Madrid partisans of a 
 different world and different social relations have taken their riots and 
 occupations to the symbols of power and to the localities of their lives. 
 Marianne Maeckelbergh and Brandon Jourdan have been documenting these 
 struggles and the experiences of participants at every step of the way. 
 They will join us this Sunday at the Holdout for a salon and retrospective 
 of their mini documentaries and to present the insights they have gathered 
 in their research and participation in these historic moments.\n\nFor more 
 info on their project check out: www.globaluprisings.org\n\nThis event 
 will be a benefit for the legal costs of the 19 comrades arrested during 
 the anti-capitalist anti-colonial action in San Francisco in October.\n 
 https://www.indybay.org/newsitems/2012/11/23/18726284.php
SUMMARY:Global Uprisings in the Age of Austerity
LOCATION:the Holdout, 2313 San Pablo Ave., Oakland
URL:https://www.indybay.org/newsitems/2012/11/23/18726284.php
DTSTART:20121126T030000Z
DTEND:20121126T050000Z
END:VEVENT
END:VCALENDAR
