BEGIN:VCALENDAR
VERSION:2.0
X-WR-CALNAME:www.indybay.org
PRODID:-//indybay/ical// v1.0//EN
BEGIN:VEVENT
UID:Indybay-18726184
SEQUENCE:18826463
CREATED:20121122T001900Z
DESCRIPTION:Come and learn about all the winter birds migrating to Lake 
 Merritt!\n\nMeet at 2pm at the main entrance of the Rotary Science Center 
 (600 Bellevue Ave) at Lake Merritt.\n\nBring raingear/umbrella and 
 binoculars and a birding field guide if possible.  However, the waterbirds 
 we will be concentrating on are usually very easy to see even without 
 binoculars.  This is a guided walk of about an hour (or longer for those 
 really interested) along the shore of Lake Merritt and aimed at beginners 
 but also anyone who has some birding experience and wanting to sharpen 
 their skills.\n\nWe will be concentrating on waterfowl (ducks, geese, 
 grebes, loons, cormorants, etc.), particularly native birds which migrate 
 to Lake Merritt from the north and the interior United States and Canada 
 and are winter visitants in this area.  Identification will be emphasized, 
 but also many aspects of the birds’ ecology and migrations will be 
 discussed.  Land birds will also be identified and discussed as 
 appropriate.\n\nThis walk will be conducted rain or shine!\n\nYour guide 
 will be Ron Felzer, who has been teaching Biology and Environmental Studies 
 at Merritt College since 1970.\n\n 
 https://www.indybay.org/newsitems/2012/11/21/18726184.php
SUMMARY:Bird Identification at Lake Merritt Presented by Wild Oakland
LOCATION:Outside the Rotary Nature Center at Lake Merritt, 600 Bellevue Ave, 
 Oakland,CA 94610
URL:https://www.indybay.org/newsitems/2012/11/21/18726184.php
DTSTART:20121208T220000Z
DTEND:20121209T000000Z
END:VEVENT
END:VCALENDAR
