BEGIN:VCALENDAR
VERSION:2.0
X-WR-CALNAME:www.indybay.org
PRODID:-//indybay/ical// v1.0//EN
BEGIN:VEVENT
UID:Indybay-18725154
SEQUENCE:18825025
CREATED:20121106T021300Z
DESCRIPTION:Join Kristian Williams for a discussion of police, abuses of power,\nand 
 the “justice” system in the United States, including his most\nrecent 
 book, Hurt, a Q&A & book signing.\n 
 https://www.indybay.org/newsitems/2012/11/05/18725154.php
SUMMARY:Kristian Williams Book Talk
LOCATION:Modern Times Bookstore \n2919 24th Street
URL:https://www.indybay.org/newsitems/2012/11/05/18725154.php
DTSTART:20121110T030000Z
DTEND:20121110T030000Z
END:VEVENT
END:VCALENDAR
