BEGIN:VCALENDAR
VERSION:2.0
X-WR-CALNAME:www.indybay.org
PRODID:-//indybay/ical// v1.0//EN
BEGIN:VEVENT
UID:Indybay-18724968
SEQUENCE:18824823
CREATED:20121102T073700Z
DESCRIPTION:Black Mesa benefit 2012:\nAnti-colonial struggle from California to 
 Arizona\n\nSPEAKERS:\n* Kat Keediniihii (Diné) *\nGrowing up at Big 
 Mountain, Kat was raised with Diné traditions by her family in the midst 
 of a struggle for cultural survival. She is currently living in Salinas 
 with her four sons and is known as a humble, hard-working woman who is 
 always there for the people.\n\n* Corrina Gould (Chochenyo/Karkin Ohlone) 
 *\nCorrina Gould is a community organizer and educator in Oakland who works 
 every day to honor her ancestors. For over a decade she has been on the 
 front lines of Ohlone efforts to protect sacred sites.\n\nMUSIC:\nSpeakers 
 will be followed by a set of acoustic music by local artists: \nPale Robin, 
 Gembrokers, Scott Ferreter and secret 
 guests!\nhttp://palerobin.bandcamp.com/\nhttp://thegembrokers.com/\n\nALSO:\n* 
 Black Mesa Support Slideshow\n* Desserts and food\n\nAdmission is $5-20, no 
 one turned away.\nThis is a benefit for Black Mesa families resisting 
 relocation.\n\nBACKGROUND:\nIn Northeastern Arizona, traditional Diné 
 (Navajo) elders and families at Black Mesa are continuing a decades-long 
 resistance to coal strip-mining and forced relocation from their sacred 
 ancestral lands.\n\n“Our life is our religion, and our religion is the 
 land.”\nThomas Katenay, Diné\n\nIn the Monterey and SF Bay Areas, Ohlone 
 people continue to fight for cultural survival and the protection of their 
 sacred places and burial grounds. “Un-recognized” by the federal 
 government, the Ohlones have no land-base and live day to day within a 
 settler society that is largely ignorant of their continued 
 existence.\n\n“What I say about this development that happens all over 
 the Bay Area, is that it’s a cultural genocide. They’re trying to wipe 
 us out, in a different kind of a way.”\nCorrina Gould, Ohlone \n\nEvent 
 details:\nFriday, November 9th\n6:30pm-10:00pm\n@ the Resource Center for 
 Nonviolence\n612 Ocean Street, Santa Cruz, CA\n\nBLACK MESA INDIGENOUS 
 SUPPORT, SANTA 
 CRUZ\nsheepandsagebrush@gmail.com\n831-708-8199\nhttp://blackmesais.org/\n 
 https://www.indybay.org/newsitems/2012/11/02/18724968.php
SUMMARY:Black Mesa benefit - Anti-colonial resistance from California to Arizona
LOCATION:Resource Center for Nonviolence\n612 Ocean Street, Santa Cruz, CA
URL:https://www.indybay.org/newsitems/2012/11/02/18724968.php
DTSTART:20121110T023000Z
DTEND:20121110T063000Z
END:VEVENT
END:VCALENDAR
