BEGIN:VCALENDAR
VERSION:2.0
X-WR-CALNAME:www.indybay.org
PRODID:-//indybay/ical// v1.0//EN
BEGIN:VEVENT
UID:Indybay-18724861
SEQUENCE:18824636
CREATED:20121031T191900Z
DESCRIPTION:Come Join Us at the Yes on Prop 37 March!\n\nSupport the labeling of GMOs 
 in our food!\n\nSanta Cruz: Sunday, November 4 –\n\n11:30 Rally at Laurel 
 Park (301 Center Street)\n12:30 March through Downtown\n1-4pm street 
 canvassing all over town\n\nBring a Yes on 37 sign or you may use one of 
 ours!\nExpect to see drummers and people on stilts! This will be a fun and 
 exciting way to help support Prop 37, the right to know what is in our 
 food!\n\nOur March leader, THOMAS “Clever” LLEWELLYN is an Education 
 Director/Production Manager, of the Sustainable Living Roadshow. The 
 Sustainable Living Roadshow has successfully led Yes on Prop 37 Marches all 
 over the bay area.\n\nYes on Prop 37 is endorsed by: the largest health, 
 faith, consumer and labor groups, including Consumers Union, United Farm 
 and Commercial Workers, American Public Health Association, California 
 Nurses Association, California Council of Churches, California Labor 
 Federation, United Farm Workers, Sierra Club, Whole Foods Market, Organic 
 Consumers Association, Center for Food Safety, Consumer Federation of 
 America, Public Citizen, Santa Cruz County Board of Supervisors, Santa Cruz 
 City Council, Dominican Hospital, Harbor Medical Group, The Los Angeles 
 City Council, Transition Santa Cruz, The Santa Cruz Live Oak Grange,  and 
 more than 2,500 other Prop 37 endorsers.\n\nFor more info visit: 
 www.carighttoknow.org/33/santa_cruz_yes_on_37_rally\n 
 https://www.indybay.org/newsitems/2012/10/31/18724861.php
SUMMARY:Yes on 37 Rally & March in Santa Cruz
LOCATION:Laurel Park (301 Center Street)
URL:https://www.indybay.org/newsitems/2012/10/31/18724861.php
DTSTART:20121104T193000Z
DTEND:20121105T003000Z
END:VEVENT
END:VCALENDAR
