BEGIN:VCALENDAR
VERSION:2.0
X-WR-CALNAME:www.indybay.org
PRODID:-//indybay/ical// v1.0//EN
BEGIN:VEVENT
UID:Indybay-18724670
SEQUENCE:18824398
CREATED:20121028T154700Z
DESCRIPTION:Background Information: Justice 4 Alan Blueford website.\n\nWe are now 
 meeting weekly. After the release of the (redacted) police report, the 
 (whitewashed) DA’s report and its pronouncement that Masso was justified 
 in gunning Alan down, and our press conference denouncing same, we will be 
 planning further steps in our search for Justice 4 Alan Blueford. Come help 
 us out!\n\nWe are organizing a large march for November 10th, 2012 with an 
 emphasis on opposition to Racial Profiling, particularly Oakland’s de 
 facto Stop & Frisk policy — which led directly to Alan’s death — and 
 the repeal of the Police Officers’ Bill of Rights, a California law which 
 protects Officer Masso from investigation unlike ordinary citizens. \n\nWe 
 are expecting a large turnout and we need all the help we can get with 
 outreach and logistics.  And we need people to help plan further 
 actions!\n\n\n\n https://www.indybay.org/newsitems/2012/10/28/18724670.php
SUMMARY:Justice 4 Alan Blueford Coalition Meeting
LOCATION:SEIU 1021 Hall, West Oakland\n155 Myrtle St, Oakland CA
URL:https://www.indybay.org/newsitems/2012/10/28/18724670.php
DTSTART:20121103T180000Z
DTEND:20121103T200000Z
END:VEVENT
END:VCALENDAR
