BEGIN:VCALENDAR
VERSION:2.0
X-WR-CALNAME:www.indybay.org
PRODID:-//indybay/ical// v1.0//EN
BEGIN:VEVENT
UID:Indybay-18723969
SEQUENCE:18824626
CREATED:20121017T214400Z
DESCRIPTION:…a gift from above, a sentiment for creation…\n \nWith special guest 
 artists Jochelle Pereña and Kristin Torok.\n \nCuauhtemoc Peranda Mitote 
 is a dance company based in Xicano/Mexica Tradition, Voguing, and 
 Contemporary Dance Practice.\n \nCuauhtémoc Peranda (Xicano/Meixca/Aztec, 
 Mescalero Apache, & Two-Spirit) is a choreographer, dancer and scholar from 
 Santa Cruz, CA. His dance training primarily comes from Tezcatlipoca Danza 
 Azteca, Tlaloc-Chalchihuitlicue Danza Azteca, Stanford University, and 
 Mills College. Since the age of 15, Cuauhtémoc has taught traditional 
 Aztec dance to his communities and now continues to teach Aztec dance and 
 gives lessons in voguing, and modern dance forms. Cuauhtémoc current 
 artistic interest is the examination of Modern Dance’s relationship to 
 the “Native American Indian”, and the unadorned communicative power of 
 focused movement: Fierceness. He currently works as Artistic Director and 
 Manager of his own company, Cuauhtemoc Peranda Mitote Dance Company, and is 
 the Director of Choreography for Santa Cruz Chamber Ballet. When not a 
 practicing artist, he works in administration for the Indian Health Center 
 of Santa Clara Valley. He graduated with a BA from Stanford University, and 
 an MFA in Dance from Mills College. \n 
 https://www.indybay.org/newsitems/2012/10/17/18723969.php
SUMMARY:Cuauhtemoc Peranda Mitote Presents: The Boy Who Fell From the Sky
LOCATION:La Peña is a vibrant community cultural center with a national reputation 
 and a global vision that promotes peace, social justice and cultural 
 understanding through the arts, education and social action.
URL:https://www.indybay.org/newsitems/2012/10/17/18723969.php
DTSTART:20121105T040000Z
DTEND:20121105T060000Z
END:VEVENT
END:VCALENDAR
