BEGIN:VCALENDAR
VERSION:2.0
X-WR-CALNAME:www.indybay.org
PRODID:-//indybay/ical// v1.0//EN
BEGIN:VEVENT
UID:Indybay-18723633
SEQUENCE:18822985
CREATED:20121013T082900Z
DESCRIPTION:Take Back the Night Healing Arts Festival \n\nGreetings Wonderful People! 
 \nJoin Veteran Artists and the San Francisco Art Community as we sing, 
 perform poetry and story-telling, dance, and display art to "empower and 
 honor" those who have gone through military sexual trauma, sexual assault, 
 rape, domestic violence and have survived and thrived, on Saturday, October 
 13, 2012, 11:30 am-7:30 pm, at the Veterans Building, 401 Van Ness Ave, 2nd 
 floor. This event is sponsored by American Legion Post 315, Veterans for 
 Peace Chapter 69, Veterans Art Guild, and Veterans Media Center San 
 Francisco. \nWe gather to raise awareness about sexual violence and to 
 support the survivors in their healing process. There will be both military 
 veteran and non-veteran artists, from the San Francisco Bay Area, an 
 inspiring array of divine spirit women/goddess altars from 6 continents 
 will be displayed, as well as beautiful innovative visual art. In addition, 
 you will enjoy holistic healing activities throughout the day including 
 yoga, qigong, and belly-dancing, as well as informational booths by San 
 Francisco Women Against Rape, Women's Inc., Protect Our Defenders, 
 StoryCorps, homeopathic and mental health therapists. The day will 
 culminate with a dynamic panel of speakers and live performances of Dance 
 Brigade, Al-hambra Tribal Dance Troupe, Mama Coalt artivist, poets and much 
 more. \nLastly, a Take Back the Night walk will start 6:30 pm, ending at 
 the Civic Center Plaza in a spiral candle-light vigil honoring those who 
 have lost their lives and those who have survived. An $1:50 donation is 
 suggested for each candle. People of all ages, races, religions, 
 backgrounds and genders are welcome and encouraged to attend this FREE 
 event. Light refreshments will be served. Join with us in unity as 
 together, we all work towards a violence-free world. United, we can stop 
 the violence! This is a Clean and Sober, Hate Free Event! \nLatonia M. 
 Dixon, R.N. M.A., M.F.A. \n2nd Vice Commander, American Legion Post 315 \nA 
 new FB event under SF Veterans Art Guild 
 http://www.facebook.com/events/424654524247297/#!/events/424654524247297/ 
 \nGeneral Facebook page http://www.facebook.com/events/160374630764064/ 
 \n\n"Your Silence Will Not Protect You." -Audre Lorde \n"How wonderful it 
 is that nobody wait a single moment before starting to improve the world." 
 -Anne Frank \n\n\n\n 
 https://www.indybay.org/newsitems/2012/10/13/18723633.php
SUMMARY:Take Back the Night Healing Arts Festival Raise Awareness about Sexual Violence & Healing
LOCATION:San Francisco Veterans Building \n401 Van Ness Avenue @ McAllister
URL:https://www.indybay.org/newsitems/2012/10/13/18723633.php
DTSTART:20121013T183000Z
DTEND:20121014T023000Z
END:VEVENT
END:VCALENDAR
