BEGIN:VCALENDAR
VERSION:2.0
X-WR-CALNAME:www.indybay.org
PRODID:-//indybay/ical// v1.0//EN
BEGIN:VEVENT
UID:Indybay-18723419
SEQUENCE:18822662
CREATED:20121009T220900Z
DESCRIPTION:Ecology Action and PG&E will be conducting a FREE workshop for homeowners 
 interested in learning about how to make their homes more energy efficient 
 which can lower your utility bills, improve the comfort of your home, and 
 protect the environment by saving energy. Homeowners will learn about how 
 to participate in the Energy Upgrade California program, hear testimony 
 from a local homeowner who has benefited from the program and meet local 
 participating contractors.\n 
 https://www.indybay.org/newsitems/2012/10/09/18723419.php
SUMMARY:Free Energy Upgrade Homeowner Workshop
LOCATION:San Mateo Garden Center, 605 Parkside Way, San Mateo, CA, 94403
URL:https://www.indybay.org/newsitems/2012/10/09/18723419.php
DTSTART:20121102T013000Z
DTEND:20121102T030000Z
END:VEVENT
END:VCALENDAR
