BEGIN:VCALENDAR
VERSION:2.0
X-WR-CALNAME:www.indybay.org
PRODID:-//indybay/ical// v1.0//EN
BEGIN:VEVENT
UID:Indybay-18723396
SEQUENCE:18822634
CREATED:20121009T185300Z
DESCRIPTION:Approximately 1,000 people will arrange themselves into large lettering (50 
 feet tall) spelling out "DUMP CITIZENS UNITED!" The phrase will stretch 500 
 feet down the beach. All invited. Free event. Please arrive in vicinity by 
 10:45, find your place in the lettering by 11:15 (volunteers will assist 
 you), helicopter overhead at noon sharp. Within days, all participants 
 receive an oversized postcard in the US mail. Please register at the 
 HumanBannerSF site (below).\n 
 https://www.indybay.org/newsitems/2012/10/09/18723396.php
SUMMARY:1,000 person Human Banner: "Dump Citizens United!"
LOCATION:Ocean Beach, San Francisco. Just south of the Cliff House. Stairwells 5 
 through 9.
URL:https://www.indybay.org/newsitems/2012/10/09/18723396.php
DTSTART:20121013T174500Z
DTEND:20121013T191500Z
END:VEVENT
END:VCALENDAR
