BEGIN:VCALENDAR
VERSION:2.0
X-WR-CALNAME:www.indybay.org
PRODID:-//indybay/ical// v1.0//EN
BEGIN:VEVENT
UID:Indybay-18723185
SEQUENCE:18822331
CREATED:20121007T023000Z
DESCRIPTION: Often a symbol of birth, potentiality, and life, the world seems to lie 
 within a seed itself, but as industrial agriculture enters its next phase 
 with the advent of genetically modified organisms, the potentiality of life 
 itself is being controlled and patented by corporations.  'Bitter Seeds' 
 follows the lives of two Indian families in the village of Telung Takli, in 
 the state of Maharashtra.  Faced with mounting debt and the false promise 
 of Monsanto's Bt cotton, one family is struggling from becoming another 
 farmer suicide statistic, while the father of the second family has already 
 killed himself, leaving behind his wife and daughter.  Come join us for an 
 insightful and poignant look into globalization, the transgenic world, and 
 the perseverance of the common people.\n 
 https://www.indybay.org/newsitems/2012/10/06/18723185.php
SUMMARY:Free Film Showing: Bitter Seeds
LOCATION:Peace & Justice Center\n231 Bedford Road\nStockton, CA
URL:https://www.indybay.org/newsitems/2012/10/06/18723185.php
DTSTART:20121031T020000Z
DTEND:20121031T040000Z
END:VEVENT
END:VCALENDAR
