BEGIN:VCALENDAR
VERSION:2.0
X-WR-CALNAME:www.indybay.org
PRODID:-//indybay/ical// v1.0//EN
BEGIN:VEVENT
UID:Indybay-18723175
SEQUENCE:18822316
CREATED:20121007T005200Z
DESCRIPTION:We are a working group comprised of 16 community activists, meeting every 
 Tuesdaqy at the SF Public Library, to defeat the 4th attempt of SFPD (since 
 2004) to secure a contract with Tasers International, INC.\n\n50,000 volts 
 per zap !\nTasers have claimed 532 lives in the US since 
 2001.\nParticularly at risk are :\n\n* People with mental health issues\n* 
 Seniors\n* Children\n* Pregnant women\n* Undocumented Laborers\n* 
 Diabetics\n* The Homeless\n* people with small body weight\n* People with 
 cardiac probems\n* People with metabolic disirders\n* People with 
 Osteoporosis\n* Substance users and alcoholics\n* People already impacted 
 by the No Sit/Lie Ordinance  since Feb.2011\n* People with AIDS\n* 
 Hemophyliacs\n\nWe have only one month left before the SF Police Commission 
 will take a vote on whther or not approving tasers for SFPD\n\nPlease join 
 us \nif you are willing to help us \n(flyers distribution, petition drive, 
 Internet and street outreach, staffing related events, educating your 
 co-workers, families, friends and local community memers,  on the lethal 
 dangers of Tasers)\n 
 https://www.indybay.org/newsitems/2012/10/06/18723175.php
SUMMARY:SF NO_TASERS Collective, taskforce meeting
LOCATION:SF Main Library, (Larkin & Grove), near Civic Center BART Station, 3rd 
 floor in the Paley Conference Room
URL:https://www.indybay.org/newsitems/2012/10/06/18723175.php
DTSTART:20121010T003000Z
DTEND:20121010T023000Z
END:VEVENT
END:VCALENDAR
