BEGIN:VCALENDAR
VERSION:2.0
X-WR-CALNAME:www.indybay.org
PRODID:-//indybay/ical// v1.0//EN
BEGIN:VEVENT
UID:Indybay-18722948
SEQUENCE:18821989
CREATED:20121003T160200Z
DESCRIPTION:The Godless Perverts Story Hour is an evening about how to have good sex 
 without having any gods, goddesses, spirits, or their earthly 
 representatives hanging over your shoulder and telling you that you're 
 doing it wrong. With fiction, nonfiction, poetry, and performances from 
 Maggie Mayhem, Victor Harris, Greta Christina, David Fitzgerald, Chris 
 Hall, Dana Fredsti, Anthony O'con, and Simon Sheppard, we'll be bringing 
 you depictions, explorations, and celebrations of godless sexualities, as 
 well as critical, mocking, and blasphemous views of sex and religion. The 
 evening's entertainment will have a range of voices -- sexy and serious, 
 passionate and funny, and all of the above -- talking about how our 
 sexualities can not only exist, but even thrive, without the supernatural. 
 We've only got one life -- what better way to spend it than an evening of 
 sexy godless fun?\n 
 https://www.indybay.org/newsitems/2012/10/03/18722948.php
SUMMARY:Godless Perverts Story Hour
LOCATION:Center for Sex and Culture\n1349 Mission St. between 9th and 10th\nSan 
 Francisco, CA
URL:https://www.indybay.org/newsitems/2012/10/03/18722948.php
DTSTART:20121118T030000Z
DTEND:20121118T050000Z
END:VEVENT
END:VCALENDAR
