BEGIN:VCALENDAR
VERSION:2.0
X-WR-CALNAME:www.indybay.org
PRODID:-//indybay/ical// v1.0//EN
BEGIN:VEVENT
UID:Indybay-18722705
SEQUENCE:18821661
CREATED:20121001T015800Z
DESCRIPTION:Ohlones will share their culture and history, including music, song, dance, 
 and stories. They’ll discuss contemporary cultural involvements, and 
 demonstrate basket, jewelry, soaproot brush, and dogbane string making. 
 Visit a more than 2,000-year-old village site, play an Ohlone game, make 
 fire without matches, or make a miniature tule boat. Taste native plant 
 teas, manzanita cider, and acorn soup cooked with heated stones in a 
 basket.\n\nFree event. Parking $5.\n 
 https://www.indybay.org/newsitems/2012/09/30/18722705.php
SUMMARY:Gathering of Ohlone Peoples
LOCATION:Coyote Hills Regional Park\n8000 Patterson Ranch Road\nFremont, CA
URL:https://www.indybay.org/newsitems/2012/09/30/18722705.php
DTSTART:20121007T170000Z
DTEND:20121007T230000Z
END:VEVENT
END:VCALENDAR
