BEGIN:VCALENDAR
VERSION:2.0
X-WR-CALNAME:www.indybay.org
PRODID:-//indybay/ical// v1.0//EN
BEGIN:VEVENT
UID:Indybay-18722689
SEQUENCE:18821641
CREATED:20120930T215600Z
DESCRIPTION:Report-back from trip to Fort Lewis Army base helping soldiers refuse 
 deployment to Afghanistan\n\nFeatured Speaker: Mike Prysner \nIraq War 
 Veteran & Co-Founder, March Forward!  \n\nOur Lives Our Rights is a new 
 campaign led by veterans, active-duty U.S. troops and war resisters. The 
 goal of the campaign is to inform U.S. service members of their 
 rights—first and foremost, their right to refuse to fight the criminal 
 war in Afghanistan be becoming Conscientious Objectors. \n\nMike Prysner, 
 co-founder of the campaign, will speak in San Francisco after Our Lives Our 
 Rights completes an outreach deployment to Fort Lewis, where they will do 
 outreach to thousands of soldiers scheduled to deploy to Afghanistan in 
 just a few weeks with the message: “We don’t have to go to 
 Afghanistan!” \n\nWheelchair accessible. Refreshments provided. \n$5-10 
 donation (no one turned away for lack of funds)\n\nSponsored by March 
 Forward!, ANSWER Coalition and Veterans for Peace - SF\n\n 
 https://www.indybay.org/newsitems/2012/09/30/18722689.php
SUMMARY:Forum "Our Lives, Our Rights" - Vets and GIs Refuse to Fight
LOCATION:2969 Mission St. at 26th St., SF\nnear 24th St. BART/#14, #49 MUNI \n
URL:https://www.indybay.org/newsitems/2012/09/30/18722689.php
DTSTART:20121013T020000Z
DTEND:20121013T040000Z
END:VEVENT
END:VCALENDAR
