BEGIN:VCALENDAR
VERSION:2.0
X-WR-CALNAME:www.indybay.org
PRODID:-//indybay/ical// v1.0//EN
BEGIN:VEVENT
UID:Indybay-18722454
SEQUENCE:18821307
CREATED:20120927T064700Z
DESCRIPTION:Santa Cruz Engineers for Water Alternatives (EWA) Presents: Groundwater 
 Recharge: A Storage Strategy\n\nA forum with:\nAndrew Fisher - Professor, 
 Earth Sciences, UC Santa Cruz\nMike Cloud - Hydro-Geologist, Santa Cruz 
 County Environmental Health Services\n\nFor more info about EWA, contact 
 Peter Haase, 831-426-9054, phaase@fallcreekengineering.com\n 
 https://www.indybay.org/newsitems/2012/09/26/18722454.php
SUMMARY:Groundwater Recharge: A Storage Strategy
LOCATION:Louden Nelson Center, 301 Center St., Santa Cruz, CA 95060
URL:https://www.indybay.org/newsitems/2012/09/26/18722454.php
DTSTART:20121012T020000Z
DTEND:20121012T033000Z
END:VEVENT
END:VCALENDAR
