BEGIN:VCALENDAR
VERSION:2.0
X-WR-CALNAME:www.indybay.org
PRODID:-//indybay/ical// v1.0//EN
BEGIN:VEVENT
UID:Indybay-18722105
SEQUENCE:18820771
CREATED:20120920T193800Z
DESCRIPTION:Background info and update from attorney for the Riders case, James B. 
 Chanin; followed by a speak-out on ways we can respond.\n\nBring critical 
 thoughts and action ideas, and questions for the lawyer. And food for the 
 potluck!\n\nIf you can, please print and distribute flyers. \n\nTo say it 
 politely, decrease calls for service. Find the prize.\n\nSee you on 
 10/11/12\n\n\n https://www.indybay.org/newsitems/2012/09/20/18722105.php
SUMMARY:Federal Control of OPD: Forging a Community Response
LOCATION:Humanist Hall, 390 27th St. between Telegraph and Broadway
URL:https://www.indybay.org/newsitems/2012/09/20/18722105.php
DTSTART:20121012T020000Z
DTEND:20121012T040000Z
END:VEVENT
END:VCALENDAR
