BEGIN:VCALENDAR
VERSION:2.0
X-WR-CALNAME:www.indybay.org
PRODID:-//indybay/ical// v1.0//EN
BEGIN:VEVENT
UID:Indybay-18721625
SEQUENCE:18820124
CREATED:20120914T030300Z
DESCRIPTION:First Northern California showing of “Operation Terror”, Hollywood 
 fiction thriller of what may have happened on 9/11/01. James McCullough 
 from the mysterious “Council” gives a special assignment to CIA agent 
 Aaron Delgado to attack the World Trade Center and the Pentagon and pin the 
 blame on Muslim Terrorists. Delgado and fellow agents, Phillip Singer and 
 Chase Jordan, work with a group of unsuspecting engineers to develop 
 unmanned jets that will hit their assigned targets. The Army and the FBI 
 begin to uncover the plot, forcing Delgado to intervene. The CIA agents 
 also have to deal with an increasingly suspicious George Poole, the lead 
 engineer working on the drones, who becomes skeptical on how the remote 
 controlled planes will be used. A battle between good and evil ensues as 
 the plot to attack America becomes a hard-hitting reality.\n\nBenefit for 
 No Lies Radio     www.noliesradio.org\nTickets: $10-$100\nTicket website: 
 http://www.brownpapertickets.com/event/274775\nWheelchair 
 accessible.\n\nFor occasional email notices of peace/eco/social justice 
 alerts and related events at BFUU, send any email 
 to:\nbfuusjev-subscribe@lists.riseup.net\n\nFor weekly notices of BFUU 
 services etc. go to:\nwww.bfuu.org/signup.html\n\n 
 https://www.indybay.org/newsitems/2012/09/13/18721625.php
SUMMARY:Screening of: Operation Terror
LOCATION:Berkeley Fellowship of Unitarian Universalists’ Hall \n1924 Cedar 
 (@Bonita), Berkeley   www.bfuu.org\n
URL:https://www.indybay.org/newsitems/2012/09/13/18721625.php
DTSTART:20121008T020000Z
DTEND:20121008T040000Z
END:VEVENT
END:VCALENDAR
