BEGIN:VCALENDAR
VERSION:2.0
X-WR-CALNAME:www.indybay.org
PRODID:-//indybay/ical// v1.0//EN
BEGIN:VEVENT
UID:Indybay-18721440
SEQUENCE:18819824
CREATED:20120911T223400Z
DESCRIPTION:Mahatma Gandhi Peace Prayer Day, Sunday,Oct. 7, 2012 from 10:30 am - 6:00 
 pm\nfilms on gandhi, participants, multifaith voices for peace and 
 justice,Dr. Rajeev Verma,Open Forum on Mahatma Gandhi from 2-3 pm. all are 
 welcome to talk, Sri Karunamayee, devotional singer from India, music panel 
 on how study, teaching, performance of music influences peace and 
 nonviolence, with Anuradha Sridhar, Rev. Sue Ann Yarbrough,Swami 
 Mangalananda\n https://www.indybay.org/newsitems/2012/09/11/18721440.php
SUMMARY:Mahatma Gandhi Peace Prayer Day
LOCATION:badarikashrama,15602 Maubert Avenue,San Leandro,Ca 94578
URL:https://www.indybay.org/newsitems/2012/09/11/18721440.php
DTSTART:20121007T173000Z
DTEND:20121008T003000Z
END:VEVENT
END:VCALENDAR
