BEGIN:VCALENDAR
VERSION:2.0
X-WR-CALNAME:www.indybay.org
PRODID:-//indybay/ical// v1.0//EN
BEGIN:VEVENT
UID:Indybay-18720985
SEQUENCE:18819188
CREATED:20120905T091200Z
DESCRIPTION:The San Francisco Bay Area Darfur Coalition \nand Act for Sudan\ninvite you 
 to the Bay Area premier of\nAcross the Frontlines\nWitness the toll of a 
 forgotten genocide. \n* * * \nProgram:  Speaker and Film\n6:00 pm 
 gather\n6:30pm - 8:00pm\nSpeaker\nMohamed Suleiman, Darfur 
 Representative\nPresident, San Francisco Bay Area Darfur Coalition\n\nLight 
 snacks provided.\n\nThursday, September 27th\nAt the Jewish Community 
 Relations Council\n121 Steuart St., San Francisco\nPhone:  415.957.1551\n 
 \n \nAbout the Film\nIn June of 2012, an independent American and Sudanese 
 human rights assessment team crossed the border of South Sudan into the 
 war-torn state of South Kordofan, Sudan.  While there, they witnessed 
 firsthand the atrocities being committed against the people of the Nuba 
 Mountains by their own government.  Despite the horrors, they also 
 witnessed a group of people who refuse to let the Nuban people die in 
 darkness, and a people themselves who refuse to allow themselves to be 
 ruthlessly exterminated.\n 
 https://www.indybay.org/newsitems/2012/09/05/18720985.php
SUMMARY:Whatever happened to Darfur?
LOCATION:Jewish Community Relations Council\n121 Steuart Street\nSan Francisco, CA 
 94105\n415-957-1551\n
URL:https://www.indybay.org/newsitems/2012/09/05/18720985.php
DTSTART:20120928T010000Z
DTEND:20120928T030000Z
END:VEVENT
END:VCALENDAR
