BEGIN:VCALENDAR
VERSION:2.0
X-WR-CALNAME:www.indybay.org
PRODID:-//indybay/ical// v1.0//EN
BEGIN:VEVENT
UID:Indybay-18720761
SEQUENCE:18818849
CREATED:20120901T163100Z
DESCRIPTION:The state’s hand of repression can even reach beyond the grave. Please 
 attend this very important forum sponsored by Freedom Archives & East Side 
 Arts Alliance. We all have to learn the lessons of the state’s never 
 ending compulsion to stop the peoples movements for social justice. A 
 Better World is Possible and the state knows it – we have to believe too 
 and arm ourselves with this important information that our elders in the 
 struggle are sharing at this event.\n\nOakland, Sept 9 4pm - Richard Aoki - 
 Cointelpro and Reclaiming the Legacy\n\nRichard Aoki - Black Panther & 
 Asian American Activist\n\nCointelpro Attacks & Reclaiming the 
 Legacy\n\nSunday, September 9th 4-6 pm\n\nEastSide Cultural Center\n2277 
 International Blvd\nOakland\n\nwith Diane Fujino, Emory Douglas, Tarika 
 Lewis & Bobby Seale\n\nCosponsored By EastSide Arts Alliance and the 
 Freedom Archives for more information call: 510-533-6629 or 415 863-9977\n 
 https://www.indybay.org/newsitems/2012/09/01/18720761.php
SUMMARY:Richard Aoki - COINTELPRO and Reclaiming the Legacy
LOCATION:EastSide Cultural Center\n2277 International Blvd\nOakland
URL:https://www.indybay.org/newsitems/2012/09/01/18720761.php
DTSTART:20120909T230000Z
DTEND:20120910T010000Z
END:VEVENT
END:VCALENDAR
