BEGIN:VCALENDAR
VERSION:2.0
X-WR-CALNAME:www.indybay.org
PRODID:-//indybay/ical// v1.0//EN
BEGIN:VEVENT
UID:Indybay-18720351
SEQUENCE:18818144
CREATED:20120827T042000Z
DESCRIPTION:The OO Labor Solidarity Committee meets weekly, with every other meeting 
 being held at Oscar Grant Plaza weather permitting. This week’s meeting 
 will be held at Oscar Grant Plaza in the amphiteatre just outside of City 
 Hall.\n\nTopics may include discussion about the OOLSC’s next actions, 
 the OO Occupy Everywhere Conference, support for organizing efforts by 
 UNITE HERE at the Oakland Airport, support for the Alan Blueford coalition, 
 support for the South African miners and other topics as they may arise.\n 
 https://www.indybay.org/newsitems/2012/08/26/18720351.php
SUMMARY:Occupy Oakland Labor Solidarity Committee Meeting
LOCATION:Oscar Grant Plaza, 14th & Broadway, Oakland, CA. In the amphitheatre, just 
 outside of City Hall.
URL:https://www.indybay.org/newsitems/2012/08/26/18720351.php
DTSTART:20120831T010000Z
DTEND:20120831T030000Z
END:VEVENT
END:VCALENDAR
