BEGIN:VCALENDAR
VERSION:2.0
X-WR-CALNAME:www.indybay.org
PRODID:-//indybay/ical// v1.0//EN
BEGIN:VEVENT
UID:Indybay-18720223
SEQUENCE:18817987
CREATED:20120825T055700Z
DESCRIPTION:School’s started.\nWhere are the free MUNI passes for youth?\nCall Mayor 
 Ed Lee\nWednesday, August 29, All Day \n415-554-6141\n\nThrough tremendous 
 organizing by advocates for youth, immigrants, workers, and transit 
 justice,  the San Francisco Board of Supervisors, Mayor, and Metropolitan 
 Transit Authority have been won to a two-year trial of free transit for 
 low-income youth, and the City agreed to pay about half the costs. \n\nThis 
 Wednesday, August 29, please call Mayor Ed Lee (415-554-6141) to tell him 
 that, while his support is appreciated, he needs to do more to assure the 
 rest of the funding, so the program can start this school year, and so it 
 can eventually cover all youth.\n\n 
 https://www.indybay.org/newsitems/2012/08/24/18720223.php
SUMMARY:School’s started. Where are the free MUNI passes for youth?
LOCATION:Call Mayor Ed Lee, 415-554-6141
URL:https://www.indybay.org/newsitems/2012/08/24/18720223.php
DTSTART:20120829T150000Z
DTEND:20120829T230000Z
END:VEVENT
END:VCALENDAR
