BEGIN:VCALENDAR
VERSION:2.0
X-WR-CALNAME:www.indybay.org
PRODID:-//indybay/ical// v1.0//EN
BEGIN:VEVENT
UID:Indybay-18720025
SEQUENCE:18817647
CREATED:20120822T020900Z
DESCRIPTION:Esta junta estará disponible en español \nPSL Public Forum and 
 Discussion\n\nThe myth of democracy and the rule of the banks\n\nFriday, 
 August 24, 7pm\n2969 Mission St., San Francisco\n\nThe Party for Socialism 
 and Liberation has just produced a new pamphlet, “The Myth of Democracy 
 and the Rule of the Banks,” which documents some of the outrageous crimes 
 of the biggest Wall Street financial institutions. Their documented crimes 
 including massive drug money laundering, illegal foreclosures, and blatant 
 fraud which has led to the bankrupting of pension plans and entire cities. 
 The bankers wild gambling played a key role in bringing down the economy. 
 Yet, no top Wall St. executive has gone to prison. Why?\n\nHear author 
 Richard Becker, whose presentation will be followed by 
 discussion.\n\nDefending Women’s Rights\n\nOn Sunday, August 26 – 
 Women’s Equality Day and the day before the start of the Republican 
 convention – marches and rallies will take place in cities across the 
 country. The protests, initiated by Women Organized to Resist & Defend 
 (WORD), will oppose the coordinated right-wing attacks that have eroded 
 women’s rights. Join us for a report on the plans for August 26, and get 
 involved in building the movement!\n\n2969 Mission St. San Francisco\n\n$3 
 - $5 donation requested, no one turned away for lack of 
 funds.\n(Refreshments served. Cross street 25th and 26th. Near 24th St. 
 BART. MUNI #14, 49. For more info contact PSL at 415-821-6171.\n\nCheck out 
 our website: http://www.pslweb.org\nDaily News & Analysis from a Marxist 
 Perspective. The Party for Socialism and Liberation has a website filled 
 with great political material from a Marxist perspective. On it, you can 
 get news and analysis, breaking stories, learn about PSL events across the 
 country, download audio and video and other political resources, find out 
 how to get involved with the PSL and much more. Go to the website and look 
 around, bookmark it and share it with your friends and family. Check 
 http://www.pslweb.org each day for updated information and news. Make 
 socialism a part of your everyday life!\n\nSubscribe: check out our 
 bi-weekly newspaper Liberation\nGet a Marxist analysis of the critical 
 political developments of the day, reports on liberation struggles around 
 the world, and educational articles with content that every activist should 
 learn. Go to http://www.pslweb.org to read current selections and back 
 issues and to find out how to subscribe. Liberation is our biweekly 
 newspaper. Go to http://www.pslweb.org to read it and find out more about 
 the working class struggle.\n 
 https://www.indybay.org/newsitems/2012/08/21/18720025.php
SUMMARY:Forum/Foro: The myth of democracy and the rule of the banks/Defending women's rights
LOCATION:2969 Mission St. San Francisco\n\n$3 - $5 donation requested, no one turned 
 away for lack of funds.\n(Refreshments served. Cross street 25th and 26th. 
 Near 24th St. BART. MUNI #14, 49. For more info contact PSL at 
 415-821-6171.\n\n2969 Calle Mission\n\nSugerimos una donación de $3 a $5, 
 todos bienvenidos, con o sin fondos.\n(Habrá antojitos. Esquiná de la 
 calle 25 y 26, acerca de BART/24 St., MUNI #14, 49)\n\nPara mayor 
 información llame al PSL, en 415-821-6171.
URL:https://www.indybay.org/newsitems/2012/08/21/18720025.php
DTSTART:20120825T020000Z
DTEND:20120825T040000Z
END:VEVENT
END:VCALENDAR
