BEGIN:VCALENDAR
VERSION:2.0
X-WR-CALNAME:www.indybay.org
PRODID:-//indybay/ical// v1.0//EN
BEGIN:VEVENT
UID:Indybay-18719929
SEQUENCE:18817487
CREATED:20120820T134900Z
DESCRIPTION:Join the Oakland Campaign Kick Off Meeting!\nWe will hear a presentation 
 from International People's Democratic Uhuru Movement President Diop 
 Olugbala on the urgent call for white solidarity and solidarity from other 
 allies with the campaigns and programs for African self-determination and 
 unity with reparations to the African community.\nEmail 
 oakland@uhurusolidarity.org for more info and/or call us at 510- 
 394-1780\n\nEvery day we see U.S. wars proliferate around the world, the 
 economy is crashing, climate change wreaking havoc. We see the growing 
 epidemic of murder and brutality of African people. We see the two-tiered 
 Jim Crow “justice” system in this country that allows the police to be 
 a daily menacing presence in African communities.\n\nWhat is the solution 
 to a system that allows the majority of the world to suffer?\n\nThe Days in 
 Solidarity with African People 2012 national campaign is answering that 
 question. The theme for 2012 is “Facing the Truth About Racial Injustice, 
 How White People Can See the Future Through the Eyes of the 
 Oppressed!”\n\nRead “A Call for Days in Solidarity with African 
 People“\nhttp://uhurusolidarity.wordpress.com/2012/07/23/facing-the-truth-about-racial-injustice-seeing-the-future-through-the-eyes-of-the-oppressed/\n\nTake 
 the Pledge! Sign your name to this statement. Make a donation of 
 reparations. Tell us why YOU are taking this stand. Your statement may be 
 posted publically on uhurusolidarity.wordpress.com\nBring the Days in 
 Solidarity with African People to YOUR Community!\n\nWe can, as a 
 community, stand in solidarity with African people worldwide! What can you 
 do in your community? Can you host a Day in Solidarity event, house party, 
 fundraiser, outreach table? 
 \nhttps://www.wepay.com/donations/days-in-solidarity-with-african-people-2012-facing-the-truth-about-racial-injustice-seeing-the-future-through-the\n\nJoin 
 the meeting on Thursday to find out more!\n 
 https://www.indybay.org/newsitems/2012/08/20/18719929.php
SUMMARY:Kick Off the Campaign! Facing the Truth About Racial Injustice
LOCATION:Niebyl Proctor Library, 6501 Telegraph Ave, Oakland
URL:https://www.indybay.org/newsitems/2012/08/20/18719929.php
DTSTART:20120824T020000Z
DTEND:20120824T040000Z
END:VEVENT
END:VCALENDAR
