BEGIN:VCALENDAR
VERSION:2.0
X-WR-CALNAME:www.indybay.org
PRODID:-//indybay/ical// v1.0//EN
BEGIN:VEVENT
UID:Indybay-18719866
SEQUENCE:18817391
CREATED:20120819T215700Z
DESCRIPTION:Hear about Movement for Self-Healing from world renowned therapist Meir 
 Schneider.  A delicious vegan meal with a health lecture and casual 
 conversation.  Great event to connect with other health conscience 
 individuals and explore methods for improving your overall health.  
 \n\nThis event costs $15 and requires an RSVP to 707-774-1904.\n\n 
 https://www.indybay.org/newsitems/2012/08/19/18719866.php
SUMMARY:Vegan Wellness Dinner with SFVS & Meir
LOCATION:Opera Plaza Community Room\n601 Van Ness Ave\nTake the elevator to the 
 first floor, and then security will key you down to the 
 mezzanine.\nSponsored by Wellness Central and SFVS \nCost is $15 for 
 dinner.  RSVP required: 707-774-1904.
URL:https://www.indybay.org/newsitems/2012/08/19/18719866.php
DTSTART:20120830T010000Z
DTEND:20120830T030000Z
END:VEVENT
END:VCALENDAR
