BEGIN:VCALENDAR
VERSION:2.0
X-WR-CALNAME:www.indybay.org
PRODID:-//indybay/ical// v1.0//EN
BEGIN:VEVENT
UID:Indybay-18719562
SEQUENCE:18816981
CREATED:20120814T192600Z
DESCRIPTION:Did you know that you can exercise your brain and spinal cord?\nJoin us for 
 a free workshop to teach you ways to strengthen one of your body's most 
 important systems, the Central Nervous System.  \n 
 https://www.indybay.org/newsitems/2012/08/14/18719562.php
SUMMARY:Strengthening Your Central Nervous System
LOCATION:School for Self-Healing\n2218 48th Avenue\nSan Francisco, CA 94116\n2 
 blocks from the L-Taraval Muni and across from the Pacific Ocean
URL:https://www.indybay.org/newsitems/2012/08/14/18719562.php
DTSTART:20120828T020000Z
DTEND:20120828T033000Z
END:VEVENT
END:VCALENDAR
