BEGIN:VCALENDAR
VERSION:2.0
X-WR-CALNAME:www.indybay.org
PRODID:-//indybay/ical// v1.0//EN
BEGIN:VEVENT
UID:Indybay-18718661
SEQUENCE:18815708
CREATED:20120801T061600Z
DESCRIPTION:Children & Families March in Sacramento for the\nCA Domestic Workers Bill 
 of Rights (AB 889)\nTuesday, August 21st, 11AM - 2PM\nState Capitol 
 Building, Sacramento\nBuses Leave from the Bay Area: 8:30 AM\nRSVP below to 
 be notified of departure location\n\nYA BASTA! THE TIME IS NOW!\nChildren & 
 Families March for the CA Domestic Workers Bill of Rights (AB 889)\n\nIt's 
 crunch time for the CA Domestic Workers Bill of Rights. We can't do this 
 without you. Domestic Workers are mothers, aunties, and grandparents that 
 do the work that makes all other work possible. It's time they get the 
 basic rights that other workers already enjoy! On August 21st, children, 
 families, workers, employers and allies will rally in Sacramento for a 
 statewide event “The Time is Now!” calling on legislators to pass the 
 CA Domestic Workers Bill of Rights (AB 889). \n\nJoin domestic workers and 
 our allies in the faith, student and labor community to make 2012 the year 
 that California ends these unjust exclusions. \n\nRead more about the AB 
 889, the California Domestic Workers Bill of 
 Rights:\nhttp://tinyurl.com/boztqjz \n\nTo join us, please RSVP 
 here:\nhttps://docs.google.com/spreadsheet/viewform?formkey=dE0wV1VVa2pvSDR2RXh2bGMwQmp2R2c6MA#gid=0\n\ncontact 
 Steph at stef.stclair@gmail.com for more information!\n 
 https://www.indybay.org/newsitems/2012/07/31/18718661.php
SUMMARY:Sacramento March for Domestic Workers Rights
LOCATION:State Capitol Building, Sacramento\nBuses Leave from the Bay Area: 8:30 
 AM\nRSVP below to be notified of departure location
URL:https://www.indybay.org/newsitems/2012/07/31/18718661.php
DTSTART:20120821T153000Z
DTEND:20120821T233000Z
END:VEVENT
END:VCALENDAR
