BEGIN:VCALENDAR
VERSION:2.0
X-WR-CALNAME:www.indybay.org
PRODID:-//indybay/ical// v1.0//EN
BEGIN:VEVENT
UID:Indybay-18718536
SEQUENCE:18815519
CREATED:20120730T043500Z
DESCRIPTION:Immigration Injustice in Arizona\n\nSunday, August 5, 12:30 PM\nReport on 
 UU Conference in Immigration in Phoenix\nSunday, August 19, 12:30 
 PM\nDialogue on Progressive & Fair Immigration Reform\n\nUnitarian 
 Universalist Center\n1187 Franklin St. (Geary), SF\n# 38 bus, NOT 
 38L\nWheelchair Accessible\n\nFor more information, see below\n 
 https://www.indybay.org/newsitems/2012/07/29/18718536.php
SUMMARY:Immigration Injustice in Arizona
LOCATION:Unitarian Universalist Center\n1187 Franklin St. (Geary)\n#38 bus, Not 
 38L\nMLK Room
URL:https://www.indybay.org/newsitems/2012/07/29/18718536.php
DTSTART:20120805T193000Z
DTEND:20120805T210000Z
END:VEVENT
END:VCALENDAR
