BEGIN:VCALENDAR
VERSION:2.0
X-WR-CALNAME:www.indybay.org
PRODID:-//indybay/ical// v1.0//EN
BEGIN:VEVENT
UID:Indybay-18718232
SEQUENCE:18815096
CREATED:20120725T055900Z
DESCRIPTION:What are GMOs and why do you need to know?  Join us to find 
 out!\n\nApproximately 75% of processed foods in the US contain GMOs - also 
 known as genetically modified organisms, or genetically engineered foods - 
 and most of us us eat these on a daily basis without even knowing 
 it.\n\nGet the facts -- Join us to for a discussion from internationally 
 renowned speakers Jeffrey Smith and Ocean Robbins about the growing 
 evidence of GMO safety concerns in our food, and the importance of voting 
 “Yes” for the November initiative that would require labeling of foods 
 with genetically engineered ingredients. Smith is the leading expert on the 
 health dangers of GMOs. Robbins was chosen by Time and Audubon magazines as 
 a hero of the new millennium, and one of 30 “Young Visionaries” under 
 30 by the Utne Reader.\n\n6:30 pm - enjoy refreshments and live music from 
 Sacramento-based, Glowbox, and to learn about & join the Local group 
 working for the Ca Label GMO Proposition.\n\n7:00 pm. - Jeffrey Smith & 
 Ocean Robbins Speaking Event\nAlso joined by local speaker Melissa 
 DeVera\n\nSuggested donation $5  to $10. Louden Nelson Community Center, 
 301 Center Street, Santa Cruz. \n\nSponsored by New Leaf Community Markets, 
 GMO-Free Santa Cruz, and  Institute for Responsible Technology\n 
 https://www.indybay.org/newsitems/2012/07/24/18718232.php
SUMMARY:Jeffrey Smith & Ocean Robbins "Speaking Out for Healthier Food: The Truth about GMOs"
LOCATION:Louden Nelson Community Center\n301 Center St\nSanta Cruz, CA 95060\nUnited 
 States
URL:https://www.indybay.org/newsitems/2012/07/24/18718232.php
DTSTART:20120802T013000Z
DTEND:20120802T040000Z
END:VEVENT
END:VCALENDAR
